BEGIN:VCALENDAR
VERSION:2.0
PRODID:-//League of Yes - ECPv6.15.20//NONSGML v1.0//EN
CALSCALE:GREGORIAN
METHOD:PUBLISH
X-WR-CALNAME:League of Yes
X-ORIGINAL-URL:https://leagueofyes.org
X-WR-CALDESC:Events for League of Yes
REFRESH-INTERVAL;VALUE=DURATION:PT1H
X-Robots-Tag:noindex
X-PUBLISHED-TTL:PT1H
BEGIN:VTIMEZONE
TZID:UTC
BEGIN:STANDARD
TZOFFSETFROM:+0000
TZOFFSETTO:+0000
TZNAME:UTC
DTSTART:20240101T000000
END:STANDARD
END:VTIMEZONE
BEGIN:VEVENT
DTSTART;TZID=UTC:20250222T150000
DTEND;TZID=UTC:20250222T170000
DTSTAMP:20260422T020516
CREATED:20250210T235949Z
LAST-MODIFIED:20250211T002221Z
UID:4074-1740236400-1740243600@leagueofyes.org
SUMMARY:February Dance Party Sponsored By Gotham
DESCRIPTION:
URL:https://leagueofyes.org/event/february-dance-party-sponsored-by-gotham/
LOCATION:Gotham\, 1745 Express Drive North\, Hauppauge\, NY\, United States
CATEGORIES:Dance Party
END:VEVENT
END:VCALENDAR